BEGIN:VCALENDAR
VERSION:2.0
PRODID:-//Tukios.com/
BEGIN:VEVENT
UID:9919c348-719e-4651-bde7-f50361375b6c@www.adamsfuneralhome.com
DTSTAMP:20260421T230206Z
DTSTART:20260423T190000Z
DTEND:20260423T200000Z
SUMMARY:Memorial Service
DESCRIPTION:
URL:https://www.adamsfuneralhome.com/obituaries/charles-calvin-jr
LOCATION: 109 N Truman Blvd  Nixa MO 65714
GEO:37.0448847;-93.3109589
END:VEVENT
END:VCALENDAR