BEGIN:VCALENDAR
VERSION:2.0
PRODID:-//Tukios.com/
BEGIN:VEVENT
UID:e35ffcce-7949-4409-9621-5390927d724b@www.adamsfuneralhome.com
DTSTAMP:20260421T025944Z
DTSTART:20260424T180000Z
DTEND:20260424T190000Z
SUMMARY:Graveside Service
DESCRIPTION:
URL:https://www.adamsfuneralhome.com/obituaries/amber-baughman
LOCATION: 4768 Selmore Rd  Ozark MO 65721
GEO:36.9668642;-93.2297296
END:VEVENT
END:VCALENDAR