BEGIN:VCALENDAR
VERSION:2.0
PRODID:-//Tukios.com/
BEGIN:VEVENT
UID:470ec189-4242-4431-b2f8-31bac702e088@www.adamsfuneralhome.com
DTSTAMP:20260421T025433Z
DTSTART:20260423T220000Z
DTEND:20260424T000000Z
SUMMARY:Visitation
DESCRIPTION:
URL:https://www.adamsfuneralhome.com/obituaries/amber-baughman
LOCATION: 504 W Walnut St  Ozark MO 65721
GEO:37.0190237;-93.2089626
END:VEVENT
END:VCALENDAR